BEGIN:VCALENDAR
VERSION:2.0
PRODID:-//BdP Stamm Adler - ECPv6.15.20//NONSGML v1.0//EN
CALSCALE:GREGORIAN
METHOD:PUBLISH
X-ORIGINAL-URL:https://www.bdp-adler.de
X-WR-CALDESC:Veranstaltungen für BdP Stamm Adler
REFRESH-INTERVAL;VALUE=DURATION:PT1H
X-Robots-Tag:noindex
X-PUBLISHED-TTL:PT1H
BEGIN:VTIMEZONE
TZID:Europe/Berlin
BEGIN:DAYLIGHT
TZOFFSETFROM:+0100
TZOFFSETTO:+0200
TZNAME:CEST
DTSTART:20230326T010000
END:DAYLIGHT
BEGIN:STANDARD
TZOFFSETFROM:+0200
TZOFFSETTO:+0100
TZNAME:CET
DTSTART:20231029T010000
END:STANDARD
BEGIN:DAYLIGHT
TZOFFSETFROM:+0100
TZOFFSETTO:+0200
TZNAME:CEST
DTSTART:20240331T010000
END:DAYLIGHT
BEGIN:STANDARD
TZOFFSETFROM:+0200
TZOFFSETTO:+0100
TZNAME:CET
DTSTART:20241027T010000
END:STANDARD
BEGIN:DAYLIGHT
TZOFFSETFROM:+0100
TZOFFSETTO:+0200
TZNAME:CEST
DTSTART:20250330T010000
END:DAYLIGHT
BEGIN:STANDARD
TZOFFSETFROM:+0200
TZOFFSETTO:+0100
TZNAME:CET
DTSTART:20251026T010000
END:STANDARD
END:VTIMEZONE
BEGIN:VEVENT
DTSTART;TZID=Europe/Berlin:20240517T153000
DTEND;TZID=Europe/Berlin:20240520T143000
DTSTAMP:20260422T125107
CREATED:20181230T192126Z
LAST-MODIFIED:20240219T091651Z
UID:2428-1715959800-1716215400@www.bdp-adler.de
SUMMARY:Jubiläumslager 50 Jahre Stamm Adler
DESCRIPTION:für aktive Stammesmitglieder – Anmeldung bis 30.04.2024
URL:https://www.bdp-adler.de/event/jubilaeum/
LOCATION:Pfadfinderheim Friedrichstal\, Spöcker Weg 2\, 76297 Stutensee\, Landkreis Karlsruhe
CATEGORIES:Pfadis,Ranger & Rover,Wölflinge
ATTACH;FMTTYPE=image/jpeg:https://www.bdp-adler.de/wp-content/uploads/2019/12/IMG_6541-scaled.jpg
ORGANIZER;CN="BdP Stamm Adler%2C Stutensee":MAILTO:info@bdp-adler.de
END:VEVENT
BEGIN:VEVENT
DTSTART;VALUE=DATE:20240519
DTEND;VALUE=DATE:20240520
DTSTAMP:20260422T125107
CREATED:20240219T091300Z
LAST-MODIFIED:20240423T112942Z
UID:3760-1716076800-1716163199@www.bdp-adler.de
SUMMARY:Jubiläumsfeier 50 Jahre Stamm Adler
DESCRIPTION:mit Familien\, Freunden\, Ehemaligen und Gästen (Kosten für Speisen und Getränke nach Bedarf)
URL:https://www.bdp-adler.de/event/jubilaeumsfeier/
LOCATION:Pfadfinderheim Friedrichstal\, Spöcker Weg 2\, 76297 Stutensee\, Landkreis Karlsruhe
CATEGORIES:Pfadis,Ranger & Rover,Wölflinge
ATTACH;FMTTYPE=image/jpeg:https://www.bdp-adler.de/wp-content/uploads/2019/12/IMG_6541-scaled.jpg
ORGANIZER;CN="BdP Stamm Adler%2C Stutensee":MAILTO:info@bdp-adler.de
END:VEVENT
END:VCALENDAR