BEGIN:VCALENDAR
VERSION:2.0
PRODID:-//BdP Stamm Adler - ECPv6.15.20//NONSGML v1.0//EN
CALSCALE:GREGORIAN
METHOD:PUBLISH
X-ORIGINAL-URL:https://www.bdp-adler.de
X-WR-CALDESC:Veranstaltungen für BdP Stamm Adler
REFRESH-INTERVAL;VALUE=DURATION:PT1H
X-Robots-Tag:noindex
X-PUBLISHED-TTL:PT1H
BEGIN:VTIMEZONE
TZID:Europe/Berlin
BEGIN:DAYLIGHT
TZOFFSETFROM:+0100
TZOFFSETTO:+0200
TZNAME:CEST
DTSTART:20230326T010000
END:DAYLIGHT
BEGIN:STANDARD
TZOFFSETFROM:+0200
TZOFFSETTO:+0100
TZNAME:CET
DTSTART:20231029T010000
END:STANDARD
BEGIN:DAYLIGHT
TZOFFSETFROM:+0100
TZOFFSETTO:+0200
TZNAME:CEST
DTSTART:20240331T010000
END:DAYLIGHT
BEGIN:STANDARD
TZOFFSETFROM:+0200
TZOFFSETTO:+0100
TZNAME:CET
DTSTART:20241027T010000
END:STANDARD
BEGIN:DAYLIGHT
TZOFFSETFROM:+0100
TZOFFSETTO:+0200
TZNAME:CEST
DTSTART:20250330T010000
END:DAYLIGHT
BEGIN:STANDARD
TZOFFSETFROM:+0200
TZOFFSETTO:+0100
TZNAME:CET
DTSTART:20251026T010000
END:STANDARD
END:VTIMEZONE
BEGIN:VEVENT
DTSTART;TZID=Europe/Berlin:20240530T160000
DTEND;TZID=Europe/Berlin:20240602T170000
DTSTAMP:20260423T204842
CREATED:20180128T170425Z
LAST-MODIFIED:20240601T170810Z
UID:2035-1717084800-1717347600@www.bdp-adler.de
SUMMARY:Sommerfahrt
DESCRIPTION:Die Sommerfahrt wurde leider abgesagt.
URL:https://www.bdp-adler.de/event/sommerfahrt/
LOCATION:Stutensee\, 76297 Stutensee\, Baden-Württemberg
CATEGORIES:Pfadis
ATTACH;FMTTYPE=image/jpeg:https://www.bdp-adler.de/wp-content/uploads/2019/12/IMG_20180429_141102-scaled.jpg
ORGANIZER;CN="BdP Stamm Adler%2C Stutensee":MAILTO:info@bdp-adler.de
END:VEVENT
END:VCALENDAR